BEGIN:VCALENDAR
VERSION:2.0
PRODID:-//ChamberMaster//Event Calendar 2.0//EN
METHOD:PUBLISH
X-PUBLISHED-TTL:P3D
REFRESH-INTERVAL:P3D
CALSCALE:GREGORIAN
BEGIN:VEVENT
DTSTART:20191019T150000Z
DTEND:20191019T200000Z
X-MICROSOFT-CDO-ALLDAYEVENT:FALSE
SUMMARY:Fall Fest - 2019 First Methodist Church
DESCRIPTION:Fall Fest 2019 \n\n	Pulled Pork Plates       \n	Bake Sale   \n	 Craft Vendors     \n	Pumpkin Patch\n\nFREE!\n\nCarnival Games \n\n11:00am-2:00pm\n\n\n	Rock Wall\n	Bouncy House\n	Face Painting
X-ALT-DESC;FMTTYPE=text/html:<span style="font-size:18px\;"><strong>Fall Fest 2019&nbsp\;</strong></span>\n<ul>\n	<li><span style="font-size:16px\;">Pulled Pork Plates&nbsp\; &nbsp\; &nbsp\; &nbsp\;</span></li>\n	<li><span style="font-size:16px\;">Bake Sale&nbsp\; &nbsp\;</span></li>\n	<li><span style="font-size:16px\;">&nbsp\;Craft Vendors&nbsp\; &nbsp\; &nbsp\;</span></li>\n	<li><span style="font-size:16px\;">Pumpkin Patch</span></li>\n</ul>\n<span style="font-size:16px\;">FREE!<br />\nCarnival Games&nbsp\;<br />\n11:00am-2:00pm</span>\n\n<ul>\n	<li><span style="font-size:16px\;">Rock Wall</span></li>\n	<li><span style="font-size:16px\;">Bouncy House</span></li>\n	<li><span style="font-size:16px\;"><span style="color: rgb(51\, 51\, 51)\; font-family: sans-serif\, Arial\, Verdana\, &quot\;Trebuchet MS&quot\;\; background-color: rgb(255\, 255\, 255)\;">Face Painting</span></span></li>\n</ul>\n
LOCATION:First Methodist Church 2 Alexander Ln. Lampasas\, TX 76550
UID:e.2246.7624
SEQUENCE:3
DTSTAMP:20260423T213823Z
URL:https://business.lampasaschamber.org/events/details/fall-fest-2019-first-methodist-church-7624
END:VEVENT

END:VCALENDAR
