BEGIN:VCALENDAR
VERSION:2.0
PRODID:-//ChamberMaster//Event Calendar 2.0//EN
METHOD:PUBLISH
X-PUBLISHED-TTL:P3D
REFRESH-INTERVAL:P3D
CALSCALE:GREGORIAN
BEGIN:VEVENT
DTSTART:20191004T223000Z
DTEND:20191005T000000Z
X-MICROSOFT-CDO-ALLDAYEVENT:FALSE
SUMMARY:Effective Training - Yoga Body Ribbon Cutting 2019
DESCRIPTION:Effective Training - Yoga Body\n\nRibbon Cutting 2019\n\n\n\nHosted By - Rhonda Cockrell\n\n\n\nCome see our beautiful space created\n\nby repurposing a portion of the old firehouse. \n\nEnjoy light refreshments.
X-ALT-DESC;FMTTYPE=text/html:<strong><span style="font-size:24px\;"><span style="color:#000080\;">Effective Training - Yoga Body<br />\nRibbon Cutting 2019</span></span></strong><br />\n<br />\n<span style="color:#000080\;"><strong><span style="font-size:14px\;"><span style="font-size:22px\;">Hosted By - Rhonda Cockrell</span><br />\n<br />\n<span style="font-size:18px\;">Come see our beautiful space created<br />\nby repurposing a portion of the old firehouse.&nbsp\;<br />\nEnjoy light refreshments.</span></span></strong></span>
LOCATION:408 South Main Street Lampasas\, TX 76550
UID:e.2246.7639
SEQUENCE:3
DTSTAMP:20260423T212316Z
URL:https://business.lampasaschamber.org/events/details/effective-training-yoga-body-ribbon-cutting-2019-7639
END:VEVENT

END:VCALENDAR
