BEGIN:VCALENDAR
VERSION:2.0
PRODID:-//ChamberMaster//Event Calendar 2.0//EN
METHOD:PUBLISH
X-PUBLISHED-TTL:P3D
REFRESH-INTERVAL:P3D
CALSCALE:GREGORIAN
BEGIN:VEVENT
DTSTART:20191024T163000Z
DTEND:20191024T053000Z
X-MICROSOFT-CDO-ALLDAYEVENT:FALSE
SUMMARY:Edward Jones Quarterly Coffee Club 2019
DESCRIPTION:You're Invited to the Next Meeting of Our Coffee Club.  We'll be discussing Social Security\, in a relaxed\, informal setting.\n\n\n\nMark S Storm\, CFP  AAMS       Financial Advisor      Edward Jones \n\n \n\nOffice: 512-556-8726 Cell: 512-540-2352 Fax: 877-765-1658\n\n\n\n**Refreshments will be served**
X-ALT-DESC;FMTTYPE=text/html:<span style="color:green\;"><span style="font-family:gillsans condensed\,serif\;"><span style="font-size:13.5pt\;">You&#39\;re Invited to the Next Meeting of Our Coffee Club.&nbsp\; We&#39\;ll be discussing Social Security\, in a relaxed\, informal setting.<br />\n<br />\nMark S&nbsp\;Storm\, CFP&reg\; AAMS&reg\;&nbsp\;&nbsp\;&nbsp\; &nbsp\;&nbsp\;Financial Advisor&nbsp\;&nbsp\;&nbsp\;&nbsp\; &nbsp\;Edward Jones </span></span></span><br />\n&nbsp\;<br />\n<span style="color:black\;"><span style="font-family:gillsans condensed\,serif\;"><span style="font-size:12.0pt\;">Office: 512-556-8726 Cell: 512-540-2352 Fax: 877-765-1658</span></span></span><br />\n<br />\n<strong>**Refreshments will be served**</strong>
LOCATION:205 S. HWY 281 Lampasas\, TX 76550 Lampasas County Chamber of Commerce meeting room.
UID:e.2246.7029
SEQUENCE:3
DTSTAMP:20260423T212446Z
URL:https://business.lampasaschamber.org/events/details/edward-jones-quarterly-coffee-club-2019-7029
END:VEVENT

END:VCALENDAR
