BEGIN:VCALENDAR
VERSION:2.0
PRODID:-//ChamberMaster//Event Calendar 2.0//EN
METHOD:PUBLISH
X-PUBLISHED-TTL:P3D
REFRESH-INTERVAL:P3D
CALSCALE:GREGORIAN
BEGIN:VEVENT
DTSTART:20240408T045500Z
DTEND:20240409T050000Z
X-MICROSOFT-CDO-ALLDAYEVENT:FALSE
SUMMARY:Eclipse Hilltop Event
DESCRIPTION:Camping sites 20x25 for 4 people. $300 bookings can be done through our web site. BYOB\, food and concessions will be available on site. For more information contact 321-326-0004.
X-ALT-DESC;FMTTYPE=text/html:<span style="color:#222222\;"><span style="font-family:helvetica\,sans-serif\;"><span style="font-size:10.0pt\;">Camping sites 20x25 for 4 people. $300 bookings can be done through our web site. BYOB\, food and concessions will be available on site. For more information contact 321-326-0004.</span></span></span>
LOCATION:Hilltop Weddings 1311 FM 580 E Lampasas\, TX 76550
UID:e.2246.10261
SEQUENCE:3
DTSTAMP:20260419T140441Z
URL:https://business.lampasaschamber.org/events/details/eclipse-hilltop-event-10261
END:VEVENT

END:VCALENDAR
