BEGIN:VCALENDAR
VERSION:2.0
PRODID:-//ChamberMaster//Event Calendar 2.0//EN
METHOD:PUBLISH
X-PUBLISHED-TTL:P3D
REFRESH-INTERVAL:P3D
CALSCALE:GREGORIAN
BEGIN:VEVENT
DTSTART:20191009T220000Z
DTEND:20191010T020000Z
X-MICROSOFT-CDO-ALLDAYEVENT:FALSE
SUMMARY:Culpepper & Merriweather's Circus 2019
DESCRIPTION:Lampasas Kiwanis Presents:\n\n\n\n\n\nCulpepper & Merriweather's\n\n Circus!  \n\nWednesday\n\nOctober 9th 2019\n\n\n\n\n\nNext to the Old Middle School Gym\n\n\n\nShowtimes:\n\n\n\n5:00 PM \n\n& \n\n7:30 PM\n\n\n\nAdvanced tickets:\n\n$12-Adult\n\n$7-Child & Senior\n\n\n\nTickets can be purchased at:\n\nNational Bank\n\nLampasas County Chamber of Commerce\n\nMartin Millican Cooley PLLC Law Office
X-ALT-DESC;FMTTYPE=text/html:<span style="color: rgb(51\, 51\, 51)\; font-size: 13px\; text-align: center\; background-color: rgb(255\, 255\, 255)\; font-family: algerian\;"><span style="font-size: 12pt\;">Lampasas&nbsp\;Kiwanis Presents:</span></span><br style="color: rgb(51\, 51\, 51)\; font-family: sans-serif\, Arial\, Verdana\, &quot\;Trebuchet MS&quot\;\; font-size: 13px\; text-align: center\; background-color: rgb(255\, 255\, 255)\;" />\n<br style="color: rgb(51\, 51\, 51)\; font-family: sans-serif\, Arial\, Verdana\, &quot\;Trebuchet MS&quot\;\; font-size: 13px\; text-align: center\; background-color: rgb(255\, 255\, 255)\;" />\n<br style="color: rgb(51\, 51\, 51)\; font-family: sans-serif\, Arial\, Verdana\, &quot\;Trebuchet MS&quot\;\; font-size: 13px\; text-align: center\; background-color: rgb(255\, 255\, 255)\;" />\n<span style="color: rgb(51\, 51\, 51)\; font-size: 13px\; text-align: center\; background-color: rgb(255\, 255\, 255)\; font-family: algerian\;"><span style="font-size: 13.5pt\;">Culpepper&nbsp\;&amp\;&nbsp\;Merriweather&rsquo\;s</span></span><br style="color: rgb(51\, 51\, 51)\; font-family: sans-serif\, Arial\, Verdana\, &quot\;Trebuchet MS&quot\;\; font-size: 13px\; text-align: center\; background-color: rgb(255\, 255\, 255)\;" />\n<span style="color: rgb(51\, 51\, 51)\; font-size: 13px\; text-align: center\; background-color: rgb(255\, 255\, 255)\; font-family: arial\, sans-serif\;"><span style="font-size: 13.5pt\;">&#8203\;</span></span><span style="color: rgb(51\, 51\, 51)\; font-family: sans-serif\, Arial\, Verdana\, &quot\;Trebuchet MS&quot\;\; text-align: center\; background-color: rgb(255\, 255\, 255)\; font-size: 48px\;"><span style="color: red\;"><span style="font-family: algerian\;">Circus!</span></span>&nbsp\;</span><span style="color: rgb(51\, 51\, 51)\; font-family: sans-serif\, Arial\, Verdana\, &quot\;Trebuchet MS&quot\;\; font-size: 13px\; text-align: center\; background-color: rgb(255\, 255\, 255)\;">&nbsp\;</span><br />\n<b style="font-size: 13.3333px\; font-family: &quot\;engravers mt&quot\;\, serif\; text-align: center\;">Wednesday</b><br />\n<strong style="color: rgb(51\, 51\, 51)\; font-family: sans-serif\, Arial\, Verdana\, &quot\;Trebuchet MS&quot\;\; font-size: 13px\; text-align: center\; background-color: rgb(255\, 255\, 255)\;"><span style="background-image: initial\; background-attachment: initial\; background-size: initial\; background-origin: initial\; background-clip: initial\; background-position: initial\; background-repeat: initial\;"><span style="font-family: &quot\;engravers mt&quot\;\, serif\;"><span style="font-size: 10pt\;">October 9<sup>th</sup>&nbsp\;2019</span></span></span></strong><br style="color: rgb(51\, 51\, 51)\; font-family: sans-serif\, Arial\, Verdana\, &quot\;Trebuchet MS&quot\;\; font-size: 13px\; text-align: center\; background-color: rgb(255\, 255\, 255)\;" />\n<br style="color: rgb(51\, 51\, 51)\; font-family: sans-serif\, Arial\, Verdana\, &quot\;Trebuchet MS&quot\;\; font-size: 13px\; text-align: center\; background-color: rgb(255\, 255\, 255)\;" />\n<br style="color: rgb(51\, 51\, 51)\; font-family: sans-serif\, Arial\, Verdana\, &quot\;Trebuchet MS&quot\;\; font-size: 13px\; text-align: center\; background-color: rgb(255\, 255\, 255)\;" />\n<strong style="color: rgb(51\, 51\, 51)\; font-family: sans-serif\, Arial\, Verdana\, &quot\;Trebuchet MS&quot\;\; font-size: 13px\; text-align: center\; background-color: rgb(255\, 255\, 255)\;"><span style="background-image: initial\; background-attachment: initial\; background-size: initial\; background-origin: initial\; background-clip: initial\; background-position: initial\; background-repeat: initial\;"><span style="font-family: &quot\;engravers mt&quot\;\, serif\;"><span style="font-size: 10pt\;">Next to the Old Middle School Gym</span></span></span></strong><br style="color: rgb(51\, 51\, 51)\; font-family: sans-serif\, Arial\, Verdana\, &quot\;Trebuchet MS&quot\;\; font-size: 13px\; text-align: center\; background-color: rgb(255\, 255\, 255)\;" />\n<br style="color: rgb(51\, 51\, 51)\; font-family: sans-serif\, Arial\, Verdana\, &quot\;Trebuchet MS&quot\;\; font-size: 13px\; text-align: center\; background-color: rgb(255\, 255\, 255)\;" />\n<span style="color: rgb(51\, 51\, 51)\; font-size: 13px\; text-align: center\; background-color: rgb(255\, 255\, 255)\; font-family: algerian\;"><span style="font-size: 14pt\;">Showtimes<span style="background-image: initial\; background-attachment: initial\; background-size: initial\; background-origin: initial\; background-clip: initial\; background-position: initial\; background-repeat: initial\;">:</span></span></span><br style="color: rgb(51\, 51\, 51)\; font-family: sans-serif\, Arial\, Verdana\, &quot\;Trebuchet MS&quot\;\; font-size: 13px\; text-align: center\; background-color: rgb(255\, 255\, 255)\;" />\n<br style="color: rgb(51\, 51\, 51)\; font-family: sans-serif\, Arial\, Verdana\, &quot\;Trebuchet MS&quot\;\; font-size: 13px\; text-align: center\; background-color: rgb(255\, 255\, 255)\;" />\n<span style="color: rgb(51\, 51\, 51)\; font-family: sans-serif\, Arial\, Verdana\, &quot\;Trebuchet MS&quot\;\; font-size: 13px\; text-align: center\; background: rgb(255\, 255\, 255)\;"><span style="color: red\;"><span style="font-family: algerian\;"><span style="font-size: 14pt\;">5:00 PM&nbsp\;</span></span></span></span><br style="color: rgb(51\, 51\, 51)\; font-family: sans-serif\, Arial\, Verdana\, &quot\;Trebuchet MS&quot\;\; font-size: 13px\; text-align: center\; background-color: rgb(255\, 255\, 255)\;" />\n<span style="color: rgb(51\, 51\, 51)\; font-family: sans-serif\, Arial\, Verdana\, &quot\;Trebuchet MS&quot\;\; font-size: 13px\; text-align: center\; background: rgb(255\, 255\, 255)\;"><span style="font-family: algerian\;"><span style="font-size: 14pt\;">&amp\;&nbsp\;</span></span></span><br style="color: rgb(51\, 51\, 51)\; font-family: sans-serif\, Arial\, Verdana\, &quot\;Trebuchet MS&quot\;\; font-size: 13px\; text-align: center\; background-color: rgb(255\, 255\, 255)\;" />\n<span style="color: rgb(51\, 51\, 51)\; font-family: sans-serif\, Arial\, Verdana\, &quot\;Trebuchet MS&quot\;\; font-size: 13px\; text-align: center\; background: rgb(255\, 255\, 255)\;"><span style="color: red\;"><span style="font-family: algerian\;"><span style="font-size: 14pt\;">7:30 PM</span></span></span></span><br style="color: rgb(51\, 51\, 51)\; font-family: sans-serif\, Arial\, Verdana\, &quot\;Trebuchet MS&quot\;\; font-size: 13px\; text-align: center\; background-color: rgb(255\, 255\, 255)\;" />\n<br style="color: rgb(51\, 51\, 51)\; font-family: sans-serif\, Arial\, Verdana\, &quot\;Trebuchet MS&quot\;\; font-size: 13px\; text-align: center\; background-color: rgb(255\, 255\, 255)\;" />\n<span style="color: rgb(51\, 51\, 51)\; font-size: 13px\; text-align: center\; background-color: rgb(255\, 255\, 255)\; font-family: algerian\;"><span style="font-size: 14pt\;"><span style="background-image: initial\; background-attachment: initial\; background-size: initial\; background-origin: initial\; background-clip: initial\; background-position: initial\; background-repeat: initial\;">Advanced tickets:</span><br />\n<span style="background-image: initial\; background-attachment: initial\; background-size: initial\; background-origin: initial\; background-clip: initial\; background-position: initial\; background-repeat: initial\;">$12-Adult</span><br />\n<span style="background-image: initial\; background-attachment: initial\; background-size: initial\; background-origin: initial\; background-clip: initial\; background-position: initial\; background-repeat: initial\;">$7-Child &amp\; Senior</span></span></span><br style="color: rgb(51\, 51\, 51)\; font-family: sans-serif\, Arial\, Verdana\, &quot\;Trebuchet MS&quot\;\; font-size: 13px\; text-align: center\; background-color: rgb(255\, 255\, 255)\;" />\n<br style="color: rgb(51\, 51\, 51)\; font-family: sans-serif\, Arial\, Verdana\, &quot\;Trebuchet MS&quot\;\; font-size: 13px\; text-align: center\; background-color: rgb(255\, 255\, 255)\;" />\n<span style="color: rgb(51\, 51\, 51)\; font-size: 13px\; text-align: center\; background-color: rgb(255\, 255\, 255)\; font-family: &quot\;times new roman&quot\;\;">Tickets can be purchased at:<br />\nNational Bank<br />\nLampasas County Chamber of Commerce<br />\nMartin Millican Cooley PLLC Law Office</span>
LOCATION:E. North Ave. & S. Western Ave. Lampasas\, TX (Next to the Old Middle School Gym)
UID:e.2246.7638
SEQUENCE:3
DTSTAMP:20260423T213947Z
URL:https://business.lampasaschamber.org/events/details/culpepper-merriweather-s-circus-2019-7638
END:VEVENT

END:VCALENDAR
