BEGIN:VCALENDAR
VERSION:2.0
PRODID:-//ChamberMaster//Event Calendar 2.0//EN
METHOD:PUBLISH
X-PUBLISHED-TTL:P3D
REFRESH-INTERVAL:P3D
CALSCALE:GREGORIAN
BEGIN:VEVENT
DTSTART:20191023T190000Z
DTEND:20191023T220000Z
X-MICROSOFT-CDO-ALLDAYEVENT:FALSE
SUMMARY:Cricket Wireless Ribbon Cutting Ceremony 2019
DESCRIPTION:You're invited to our Ribbon Cutting Ceremony\n\nCeremony at 2:00pm\n\nFollowed by light food and refreshments to 5:00pm\n\nEnter to win a laptop in store! \n\nRaffle winner announced at 5:00pm
X-ALT-DESC;FMTTYPE=text/html:<span style="font-size:18px\;"><span style="color:#008000\;">You&#39\;re invited to our Ribbon Cutting Ceremony<br />\nCeremony at 2:00pm<br />\nFollowed by light food and refreshments to 5:00pm<br />\nEnter to win a laptop in store!&nbsp\;<br />\nRaffle winner announced at 5:00pm</span></span>
LOCATION:Cricket Wireless 610 S. Chestnut St. Lampasas\, TX 76550
UID:e.2246.7645
SEQUENCE:3
DTSTAMP:20260423T212305Z
URL:https://business.lampasaschamber.org/events/details/cricket-wireless-ribbon-cutting-ceremony-2019-7645
END:VEVENT

END:VCALENDAR
