BEGIN:VCALENDAR
VERSION:2.0
PRODID:-//ChamberMaster//Event Calendar 2.0//EN
METHOD:PUBLISH
X-PUBLISHED-TTL:P3D
REFRESH-INTERVAL:P3D
CALSCALE:GREGORIAN
BEGIN:VEVENT
DTSTART:20191102T130000Z
DTEND:20191102T200000Z
X-MICROSOFT-CDO-ALLDAYEVENT:FALSE
SUMMARY:Courtyard Square Garage Sale Fall 2019
DESCRIPTION:For more information please contact Andy Berry (512) 556-5434
X-ALT-DESC;FMTTYPE=text/html:For more information please contact Andy Berry (512) 556-5434
LOCATION:The Historic Courtyard Square In Downtown Lampasas
UID:e.2246.7008
SEQUENCE:3
DTSTAMP:20260423T194124Z
URL:https://business.lampasaschamber.org/events/details/courtyard-square-garage-sale-fall-2019-7008
END:VEVENT

END:VCALENDAR
