BEGIN:VCALENDAR
VERSION:2.0
PRODID:-//ChamberMaster//Event Calendar 2.0//EN
METHOD:PUBLISH
X-PUBLISHED-TTL:P3D
REFRESH-INTERVAL:P3D
CALSCALE:GREGORIAN
BEGIN:VEVENT
DTSTART:20191107T233000Z
DTEND:20191108T033000Z
X-MICROSOFT-CDO-ALLDAYEVENT:FALSE
SUMMARY:COUNT YOUR BLESSINGS 25th Annual Gold Star Gala
DESCRIPTION:ADVENTHEALTH CENTRAL TEXAS FOUNDATION PRESENTS\n\n\n\nCOUNT YOUR BLESSINGS 25th Annual Gold StarGala\n\n\n\nEntertainment by PAT GREEN - Texas Songwriter
X-ALT-DESC;FMTTYPE=text/html:<span style="color:#000080\;"><span style="font-size:18px\;">ADVENTHEALTH CENTRAL TEXAS FOUNDATION PRESENTS</span><br />\n<br />\n<span style="font-size:14px\;">COUNT YOUR BLESSINGS 25th Annual Gold StarGala<br />\n<br />\nEntertainment by PAT GREEN - Texas Songwriter</span></span><br />\n&nbsp\;
LOCATION:Killeen Civic & Conference Center
UID:e.2246.7642
SEQUENCE:3
DTSTAMP:20260423T194413Z
URL:https://business.lampasaschamber.org/events/details/count-your-blessings-25th-annual-gold-star-gala-7642
END:VEVENT

END:VCALENDAR
