BEGIN:VCALENDAR
VERSION:2.0
PRODID:-//ChamberMaster//Event Calendar 2.0//EN
METHOD:PUBLISH
X-PUBLISHED-TTL:P3D
REFRESH-INTERVAL:P3D
CALSCALE:GREGORIAN
BEGIN:VEVENT
DTSTART;VALUE=DATE:20260516
DTEND;VALUE=DATE:20260517
TRANSP:TRANSPARENT
X-MICROSOFT-CDO-ALLDAYEVENT:TRUE
SUMMARY:Cornhole Tournament
DESCRIPTION:1st Annual Cornhole Tournament\n\nSat. May 16th @ 2p\n\nOur Friends RV Resort\n\nGet ready for a full day of fun May 16th!\n\nThe pool opens to the public at noon as vendors get set up and the party kicks off. Cornhole tournament sign-ups begin at 1 PM\, with games starting at 2 PM featuring a live DJ and karaoke by TIP5Y Entertainment to keep the energy going.\n\nAt 5 PM\, the crawfish boil fires up\, so come hungry! Then from 7 10 PM\, enjoy live music from Scott D. Taylor and The Final Drive.\n\nBYOB ( bring your own beer) & BYOC (Bring your own chair) feel free to bring a canopy if you would like to!\n\n100% payout   1st\, 2nd\, and 3rd place\n\n5-game guarantee\n\n$20 per person / $40 per team\n\nTo sign up download the app! This will be a great day! C'mon!
X-ALT-DESC;FMTTYPE=text/html:<span style="color:#080809\;"><span style="font-family:segoe ui historic\,sans-serif\;"><span style="font-size:11.5pt\;">1<sup>st</sup> Annual Cornhole Tournament</span></span></span><br />\n<span style="color:#080809\;"><span style="font-family:segoe ui historic\,sans-serif\;"><span style="font-size:11.5pt\;">Sat. May 16<sup>th</sup> @ 2p</span></span></span><br />\n<span style="color:#080809\;"><span style="font-family:segoe ui historic\,sans-serif\;"><span style="font-size:11.5pt\;">Our Friends RV Resort</span></span></span><br />\n<span style="color:#080809\;"><span style="font-family:segoe ui historic\,sans-serif\;"><span style="font-size:11.5pt\;">Get ready for a full day of fun May 16th!</span></span></span><br />\n<span style="color:#080809\;"><span style="font-family:segoe ui historic\,sans-serif\;"><span style="font-size:11.5pt\;">The pool opens to the public at noon as vendors get set up and the party kicks off. Cornhole tournament sign-ups begin at 1 PM\, with games starting at 2 PM&mdash\;featuring a live DJ and karaoke by TIP5Y Entertainment to keep the energy going.</span></span></span><br />\n<span style="color:#080809\;"><span style="font-family:segoe ui historic\,sans-serif\;"><span style="font-size:11.5pt\;">At 5 PM\, the crawfish boil fires up\, so come hungry! Then from 7&ndash\;10 PM\, enjoy live music from Scott D. Taylor and The Final Drive.</span></span></span><br />\n<span style="color:#080809\;"><span style="font-family:segoe ui historic\,sans-serif\;"><span style="font-size:11.5pt\;">BYOB ( bring your own beer) &amp\; BYOC (Bring your own chair) feel free to bring a canopy if you would like to!<br />\n100% payout &mdash\; 1st\, 2nd\, and 3rd place<br />\n5-game guarantee<br />\n$20 per person / $40 per team<br />\nTo sign up download the app! This will be a great day! C&rsquo\;mon!</span></span></span><br />\n&nbsp\;
LOCATION:Our Friends RV Resort 7360 E US HWY 190 Lampasas TX 76550
UID:e.2246.12964
SEQUENCE:3
DTSTAMP:20260423T061012Z
URL:https://business.lampasaschamber.org/events/details/cornhole-tournament-12964
END:VEVENT

END:VCALENDAR
