BEGIN:VCALENDAR
VERSION:2.0
PRODID:-//ChamberMaster//Event Calendar 2.0//EN
METHOD:PUBLISH
X-PUBLISHED-TTL:P3D
REFRESH-INTERVAL:P3D
CALSCALE:GREGORIAN
BEGIN:VEVENT
DTSTART:20240314T013000Z
DTEND:20240314T023000Z
X-MICROSOFT-CDO-ALLDAYEVENT:FALSE
SUMMARY:Cafeinated Connections
DESCRIPTION:
X-ALT-DESC;FMTTYPE=text/html:
LOCATION:Lampasas Public Library
UID:e.2246.10129
SEQUENCE:3
DTSTAMP:20260419T125118Z
URL:https://business.lampasaschamber.org/events/details/cafeinated-connections-03-13-2024-10129
END:VEVENT

END:VCALENDAR
