BEGIN:VCALENDAR
VERSION:2.0
PRODID:-//ChamberMaster//Event Calendar 2.0//EN
METHOD:PUBLISH
X-PUBLISHED-TTL:P3D
REFRESH-INTERVAL:P3D
CALSCALE:GREGORIAN
BEGIN:VEVENT
DTSTART:20210711T000000Z
DTEND:20210711T013000Z
X-MICROSOFT-CDO-ALLDAYEVENT:FALSE
SUMMARY:Buena Vista Safari & RV Park Host- Music on Safari-July 10\, 2021
DESCRIPTION:Music on Safari \n\nSummer Music Series\n\nJohnny Prather\n\nFor Additional Information Call...\n\n254-791-5441
X-ALT-DESC;FMTTYPE=text/html:<div style="text-align: center\;"><span style="font-family:comic sans ms\;"><strong><span style="font-size:28px\;">Music on Safari&nbsp\;<br />\nSummer Music Series<br />\nJohnny Prather<br />\nFor Additional Information Call...<br />\n254-791-5441</span></strong></span></div>\n
LOCATION:
UID:e.2246.8036
SEQUENCE:3
DTSTAMP:20260422T052148Z
URL:https://business.lampasaschamber.org/events/details/buena-vista-safari-rv-park-host-music-on-safari-july-10-2021-8036
END:VEVENT

END:VCALENDAR
