BEGIN:VCALENDAR
VERSION:2.0
PRODID:-//ChamberMaster//Event Calendar 2.0//EN
METHOD:PUBLISH
X-PUBLISHED-TTL:P3D
REFRESH-INTERVAL:P3D
CALSCALE:GREGORIAN
BEGIN:VEVENT
DTSTART:20210612T170000Z
DTEND:20210613T023000Z
X-MICROSOFT-CDO-ALLDAYEVENT:FALSE
SUMMARY:Bend General Store Host-Gary P. Nunn-Chris Reeves-Anthony Wright Band-June 12\, 2021
DESCRIPTION:A full day of music at the Bend General Store.\n\nGARY P. NUNN Concert.\n\nGARY P. NUNN JUNE 12TH at the Bend General Store.\n\nChris Reeves 12:00-2:30pm\n\nAnthony Wright Band 2:30-6:30\n\nGary P. Nunn 7:30---till?\n\nCall the store to reserve a table 325-628-3523\n\nWe will have our full menu and BBQ as well.\n\nBend General Store 112 CR 438 Bend Texas 325-628-3523
X-ALT-DESC;FMTTYPE=text/html:<span style="font-size:20px\;"><strong>A full day of music at the Bend General Store.<br />\nGARY P. NUNN Concert.<br />\nGARY P. NUNN JUNE 12TH at the Bend General Store.<br />\nChris Reeves 12:00-2:30pm<br />\nAnthony Wright Band 2:30-6:30<br />\nGary P. Nunn 7:30---till?<br />\nCall the store to reserve a table 325-628-3523<br />\nWe will have our full menu and BBQ as well.<br />\nBend General Store 112 CR 438 Bend Texas 325-628-3523</strong></span>
LOCATION:Bend General Store 112 CR 438 Bend\, Texas 325-628-352
UID:e.2246.8021
SEQUENCE:3
DTSTAMP:20260422T072343Z
URL:https://business.lampasaschamber.org/events/details/bend-general-store-host-gary-p-nunn-chris-reeves-anthony-wright-band-june-12-2021-8021
END:VEVENT

END:VCALENDAR
