BEGIN:VCALENDAR
VERSION:2.0
PRODID:-//ChamberMaster//Event Calendar 2.0//EN
METHOD:PUBLISH
X-PUBLISHED-TTL:P3D
REFRESH-INTERVAL:P3D
CALSCALE:GREGORIAN
BEGIN:VEVENT
DTSTART:20191012T150000Z
DTEND:20191012T220000Z
X-MICROSOFT-CDO-ALLDAYEVENT:FALSE
SUMMARY:Artober Fest 2019
DESCRIPTION:Click here for\; Vendor Application or Sponsorship Opportunity
X-ALT-DESC;FMTTYPE=text/html:<br />\n<br />\n<br />\nClick here for\; <a href="https://chambermaster.blob.core.windows.net/userfiles/UserFiles/chambers/2246/File/2019ArtoberFestVendorApplication.pdf">Vendor Application</a> or <a href="https://chambermaster.blob.core.windows.net/userfiles/UserFiles/chambers/2246/File/2019ArtoberFestSponsorshipForm.pdf">Sponsorship Opportunity</a>
LOCATION:Hanna Springs Sculpture Garden at Campbell Park 501 East North Avenue Lampasas\, Texas 76550
UID:e.2246.7615
SEQUENCE:3
DTSTAMP:20260423T214002Z
URL:https://business.lampasaschamber.org/events/details/artober-fest-2019-7615
END:VEVENT

END:VCALENDAR
