BEGIN:VCALENDAR
VERSION:2.0
PRODID:-//ChamberMaster//Event Calendar 2.0//EN
METHOD:PUBLISH
X-PUBLISHED-TTL:P3D
REFRESH-INTERVAL:P3D
CALSCALE:GREGORIAN
BEGIN:VEVENT
DTSTART:20240408T150000Z
DTEND:20240408T200000Z
X-MICROSOFT-CDO-ALLDAYEVENT:FALSE
SUMMARY:4S Ranch Solar Eclipse Viewing
DESCRIPTION:4S Ranch is 93 acres located northeast of Lampasas. Viewing will take place in wide open coastal hay fields free of obstructions. Port-a-potties will be available. Please bring your own food\, beverages and anything you may need for this day event. No alcohol will be allowed or consumed on the premises. No fires will be allowed. No pets will be allowed. A release of liability waiver will be required upon entering the property which states the owners will not be held liable for any accidents while on the premises. One vehicle is $150 for day parking. No refunds will be issued. Trash barrels will be available. This is a day event only. No overnight camping. Call for reservation information. First come first serve until full. Rural area 20 minutes from nearest town of Lampasas\, Tx.
X-ALT-DESC;FMTTYPE=text/html:<span style="color:#222222\;"><span style="font-family:helvetica\,sans-serif\;"><span style="font-size:10.0pt\;">4S Ranch is 93 acres located northeast of Lampasas. Viewing will take place in wide open coastal hay fields free of obstructions. Port-a-potties will be available. Please bring your own food\, beverages and anything you may need for this day event. No alcohol will be allowed or consumed on the premises. No fires will be allowed. No pets will be allowed. A release of liability waiver will be required upon entering the property which states the owners will not be held liable for any accidents while on the premises. One vehicle is $150 for day parking. No refunds will be issued. Trash barrels will be available. This is a day event only. No overnight camping. Call for reservation information. First come first serve until full. Rural area 20 minutes from nearest town of Lampasas\, Tx.&nbsp\;</span></span></span>
LOCATION:4S Ranch 4684 FM 2527 Lampasas\, TX 76550
UID:e.2246.10244
SEQUENCE:3
DTSTAMP:20260419T140415Z
URL:https://business.lampasaschamber.org/events/details/4s-ranch-solar-eclipse-viewing-10244
END:VEVENT

END:VCALENDAR
