BEGIN:VCALENDAR
VERSION:2.0
PRODID:-//ChamberMaster//Event Calendar 2.0//EN
METHOD:PUBLISH
X-PUBLISHED-TTL:P3D
REFRESH-INTERVAL:P3D
CALSCALE:GREGORIAN
BEGIN:VEVENT
DTSTART:20250510T170000Z
DTEND:20250510T210000Z
X-MICROSOFT-CDO-ALLDAYEVENT:FALSE
SUMMARY:3rd Annual Classic Car Cruise In 5/10/2025
DESCRIPTION:Bring your classic beauty and park under our pecan grove. We will have live music by Drew Davis and BBQ by Smokin' 7's. People's Choice will be awarded.
X-ALT-DESC;FMTTYPE=text/html:Bring your classic beauty and park under our pecan grove. We will have live music by Drew Davis and BBQ by Smokin&#39\; 7&#39\;s. People&#39\;s Choice will be awarded.
LOCATION:Season Three Vineyard
UID:e.2246.11106
SEQUENCE:3
DTSTAMP:20260420T131908Z
URL:https://business.lampasaschamber.org/events/details/3rd-annual-classic-car-cruise-in-5-10-2025-11106
END:VEVENT

END:VCALENDAR
