BEGIN:VCALENDAR
VERSION:2.0
PRODID:-//ChamberMaster//Event Calendar 2.0//EN
METHOD:PUBLISH
X-PUBLISHED-TTL:P3D
REFRESH-INTERVAL:P3D
CALSCALE:GREGORIAN
BEGIN:VEVENT
DTSTART;VALUE=DATE:20261206
DTEND;VALUE=DATE:20261207
TRANSP:TRANSPARENT
X-MICROSOFT-CDO-ALLDAYEVENT:TRUE
SUMMARY:34th Annual TriCounty Toy Run of Central Texas
DESCRIPTION:SAVE THE DATE\n\nINFORMATION COMING SOON
X-ALT-DESC;FMTTYPE=text/html:<span style="color:#0000FF\;"><span style="font-size:24px\;"><strong>SAVE THE DATE<br />\nINFORMATION COMING SOON&nbsp\;</strong></span></span>
LOCATION:
UID:e.2246.12706
SEQUENCE:3
DTSTAMP:20260421T230951Z
URL:https://business.lampasaschamber.org/events/details/34th-annual-tricounty-toy-run-of-central-texas-12706
END:VEVENT

END:VCALENDAR
