BEGIN:VCALENDAR
VERSION:2.0
PRODID:-//ChamberMaster//Event Calendar 2.0//EN
METHOD:PUBLISH
X-PUBLISHED-TTL:P3D
REFRESH-INTERVAL:P3D
CALSCALE:GREGORIAN
BEGIN:VEVENT
DTSTART;VALUE=DATE:20240407
DTEND;VALUE=DATE:20240410
TRANSP:TRANSPARENT
X-MICROSOFT-CDO-ALLDAYEVENT:TRUE
SUMMARY:2024 Eclipse RV Camping @ Fiesta Winery
DESCRIPTION:Contact Information\n\nSavannah McCoury\n\n325-628-3433\n\ninfo@fiestawinery.com
X-ALT-DESC;FMTTYPE=text/html:Contact Information<br />\nSavannah McCoury<br />\n325-628-3433<br />\ninfo@fiestawinery.com
LOCATION:Fiesta Winery 18727W FM 580 Lometa\, TX 76853
UID:e.2246.9970
SEQUENCE:3
DTSTAMP:20260419T140728Z
URL:https://business.lampasaschamber.org/events/details/2024-eclipse-rv-camping-fiesta-winery-9970
END:VEVENT

END:VCALENDAR
