BEGIN:VCALENDAR
VERSION:2.0
PRODID:-//ChamberMaster//Event Calendar 2.0//EN
METHOD:PUBLISH
X-PUBLISHED-TTL:P3D
REFRESH-INTERVAL:P3D
CALSCALE:GREGORIAN
BEGIN:VEVENT
DTSTART:20191130T150000Z
DTEND:20191130T230000Z
X-MICROSOFT-CDO-ALLDAYEVENT:FALSE
SUMMARY:2019 Shop Small Business
DESCRIPTION:When you head out to grab a meal at the mom-and-pop shop\, buy an item from a boutique\, or have a service performed in your neighborhood\, you're making an impact in your community. \n\n\n\n*In fact\, for every dollar spend at a small business in the U.S.\, approximately (67 cents) stays in the local community.\n\n\n\nNo matter the purchase\; big or small\, our local eat\, shop & play businesses thank you!
X-ALT-DESC;FMTTYPE=text/html:<span style="color:#000080\;"><strong><span style="font-family:verdana\;"><span style="font-size:16px\;">When you head out to grab a meal at the mom-and-pop shop\, buy an item from a boutique\, or have a service performed in your neighborhood\, you&#39\;re making an impact in your community.&nbsp\;<br />\n<br />\n*In fact\, for every dollar spend at a small business in the U.S.\, approximately (67 cents) stays in the local community.<br />\n<br />\nNo matter the purchase\; big or small\, our local eat\, shop &amp\; play businesses thank you!</span></span></strong></span>
LOCATION:Lampasas Texas
UID:e.2246.7661
SEQUENCE:3
DTSTAMP:20260423T194244Z
URL:https://business.lampasaschamber.org/events/details/2019-shop-small-business-7661
END:VEVENT

END:VCALENDAR
